BEGIN:VCALENDAR
VERSION:2.0
PRODID:-//L&#039;ABÉCÉDAIRE DE BORIS VIAN et Lucienne Vernay - ECPv6.5.1.4//NONSGML v1.0//EN
CALSCALE:GREGORIAN
METHOD:PUBLISH
X-WR-CALNAME:L&#039;ABÉCÉDAIRE DE BORIS VIAN et Lucienne Vernay
X-ORIGINAL-URL:https://abcdvian.fr
X-WR-CALDESC:évènements pour L&#039;ABÉCÉDAIRE DE BORIS VIAN et Lucienne Vernay
REFRESH-INTERVAL;VALUE=DURATION:PT1H
X-Robots-Tag:noindex
X-PUBLISHED-TTL:PT1H
BEGIN:VTIMEZONE
TZID:Europe/Paris
BEGIN:DAYLIGHT
TZOFFSETFROM:+0100
TZOFFSETTO:+0200
TZNAME:CEST
DTSTART:20240331T010000
END:DAYLIGHT
BEGIN:STANDARD
TZOFFSETFROM:+0200
TZOFFSETTO:+0100
TZNAME:CET
DTSTART:20241027T010000
END:STANDARD
END:VTIMEZONE
BEGIN:VEVENT
DTSTART;TZID=Europe/Paris:20241001T000000
DTEND;TZID=Europe/Paris:20241001T235900
DTSTAMP:20260425T022222
CREATED:20240624T140029Z
LAST-MODIFIED:20240624T140029Z
UID:609-1727740800-1727827140@abcdvian.fr
SUMMARY:ORLY-VILLE (94) - Centre Culturel Aragon-Triolet - 14h
DESCRIPTION:
URL:https://abcdvian.fr/evenement/orly-ville-94-centre-culturel-aragon-triolet-14h-2/
CATEGORIES:Tout public
END:VEVENT
END:VCALENDAR